BEGIN:VCALENDAR
VERSION:2.0
PRODID:-//Akademischer Alpenclub Zürich - ECPv6.15.20//NONSGML v1.0//EN
CALSCALE:GREGORIAN
METHOD:PUBLISH
X-ORIGINAL-URL:https://aacz.ch
X-WR-CALDESC:Events for Akademischer Alpenclub Zürich
REFRESH-INTERVAL;VALUE=DURATION:PT1H
X-Robots-Tag:noindex
X-PUBLISHED-TTL:PT1H
BEGIN:VTIMEZONE
TZID:Europe/Helsinki
BEGIN:DAYLIGHT
TZOFFSETFROM:+0200
TZOFFSETTO:+0300
TZNAME:EEST
DTSTART:20230326T010000
END:DAYLIGHT
BEGIN:STANDARD
TZOFFSETFROM:+0300
TZOFFSETTO:+0200
TZNAME:EET
DTSTART:20231029T010000
END:STANDARD
BEGIN:DAYLIGHT
TZOFFSETFROM:+0200
TZOFFSETTO:+0300
TZNAME:EEST
DTSTART:20240331T010000
END:DAYLIGHT
BEGIN:STANDARD
TZOFFSETFROM:+0300
TZOFFSETTO:+0200
TZNAME:EET
DTSTART:20241027T010000
END:STANDARD
BEGIN:DAYLIGHT
TZOFFSETFROM:+0200
TZOFFSETTO:+0300
TZNAME:EEST
DTSTART:20250330T010000
END:DAYLIGHT
BEGIN:STANDARD
TZOFFSETFROM:+0300
TZOFFSETTO:+0200
TZNAME:EET
DTSTART:20251026T010000
END:STANDARD
END:VTIMEZONE
BEGIN:VEVENT
DTSTART;VALUE=DATE:20240615
DTEND;VALUE=DATE:20240617
DTSTAMP:20260420T033631
CREATED:20240513T202334Z
LAST-MODIFIED:20240525T210106Z
UID:4497-1718409600-1718582399@aacz.ch
SUMMARY:Skill-Transfer Workshop Gletscher+Spaltenbergung
DESCRIPTION:Felix and Nick would like to invite you to the crevasse and rope work skill transfer workshop on the 15th or 16th of June. As with all skill transfer workshops\, this is not intended as an instruction for beginners but rather it is an opportunity to practice skills and discuss and share experience and lessons learned. We plan to practice the following topics:\n(1) z-pulley setup and rescue\,\n(2) self rescue / rope ascending\,\n(3) transition from guide mode belay to lowering (also\, escaping a belay)\, \nWe will practice these skills in a controlled environment at a crag near Zurich (with additional belays where necessary). We will select the venue and the day based on the group and the weather closer to the weekend.
URL:https://aacz.ch/event/skill-transfer-workshop-gletscherspaltenbergung/
CATEGORIES:Hochtouren,Training
END:VEVENT
END:VCALENDAR