BEGIN:VCALENDAR
VERSION:2.0
PRODID:-//Akademischer Alpenclub Zürich - ECPv6.15.20//NONSGML v1.0//EN
CALSCALE:GREGORIAN
METHOD:PUBLISH
X-ORIGINAL-URL:https://aacz.ch
X-WR-CALDESC:Events for Akademischer Alpenclub Zürich
REFRESH-INTERVAL;VALUE=DURATION:PT1H
X-Robots-Tag:noindex
X-PUBLISHED-TTL:PT1H
BEGIN:VTIMEZONE
TZID:Europe/Helsinki
BEGIN:DAYLIGHT
TZOFFSETFROM:+0200
TZOFFSETTO:+0300
TZNAME:EEST
DTSTART:20200329T010000
END:DAYLIGHT
BEGIN:STANDARD
TZOFFSETFROM:+0300
TZOFFSETTO:+0200
TZNAME:EET
DTSTART:20201025T010000
END:STANDARD
BEGIN:DAYLIGHT
TZOFFSETFROM:+0200
TZOFFSETTO:+0300
TZNAME:EEST
DTSTART:20210328T010000
END:DAYLIGHT
BEGIN:STANDARD
TZOFFSETFROM:+0300
TZOFFSETTO:+0200
TZNAME:EET
DTSTART:20211031T010000
END:STANDARD
BEGIN:DAYLIGHT
TZOFFSETFROM:+0200
TZOFFSETTO:+0300
TZNAME:EEST
DTSTART:20220327T010000
END:DAYLIGHT
BEGIN:STANDARD
TZOFFSETFROM:+0300
TZOFFSETTO:+0200
TZNAME:EET
DTSTART:20221030T010000
END:STANDARD
END:VTIMEZONE
BEGIN:VEVENT
DTSTART;VALUE=DATE:20211001
DTEND;VALUE=DATE:20211002
DTSTAMP:20260422T205014
CREATED:20210420T165152Z
LAST-MODIFIED:20210420T165243Z
UID:1472-1633046400-1633132799@aacz.ch
SUMMARY:Trailrunning
DESCRIPTION:No date defined yet. Will take place some time in Autumn.
URL:https://aacz.ch/event/trailrunning/
LOCATION:Engadin\, Engadin\, Switzerland
END:VEVENT
BEGIN:VEVENT
DTSTART;VALUE=DATE:20211002
DTEND;VALUE=DATE:20211004
DTSTAMP:20260422T205014
CREATED:20210420T165000Z
LAST-MODIFIED:20210420T165000Z
UID:1468-1633132800-1633305599@aacz.ch
SUMMARY:Climbing Trip
DESCRIPTION:
URL:https://aacz.ch/event/climbing-trip/
LOCATION:Dolomites or Western Austria\, Schluderbach\, Italy
END:VEVENT
END:VCALENDAR