BEGIN:VCALENDAR
VERSION:2.0
PRODID:-//Akademischer Alpenclub Zürich - ECPv6.15.20//NONSGML v1.0//EN
CALSCALE:GREGORIAN
METHOD:PUBLISH
X-WR-CALNAME:Akademischer Alpenclub Zürich
X-ORIGINAL-URL:https://aacz.ch
X-WR-CALDESC:Events for Akademischer Alpenclub Zürich
REFRESH-INTERVAL;VALUE=DURATION:PT1H
X-Robots-Tag:noindex
X-PUBLISHED-TTL:PT1H
BEGIN:VTIMEZONE
TZID:Europe/Helsinki
BEGIN:DAYLIGHT
TZOFFSETFROM:+0200
TZOFFSETTO:+0300
TZNAME:EEST
DTSTART:20200329T010000
END:DAYLIGHT
BEGIN:STANDARD
TZOFFSETFROM:+0300
TZOFFSETTO:+0200
TZNAME:EET
DTSTART:20201025T010000
END:STANDARD
BEGIN:DAYLIGHT
TZOFFSETFROM:+0200
TZOFFSETTO:+0300
TZNAME:EEST
DTSTART:20210328T010000
END:DAYLIGHT
BEGIN:STANDARD
TZOFFSETFROM:+0300
TZOFFSETTO:+0200
TZNAME:EET
DTSTART:20211031T010000
END:STANDARD
BEGIN:DAYLIGHT
TZOFFSETFROM:+0200
TZOFFSETTO:+0300
TZNAME:EEST
DTSTART:20220327T010000
END:DAYLIGHT
BEGIN:STANDARD
TZOFFSETFROM:+0300
TZOFFSETTO:+0200
TZNAME:EET
DTSTART:20221030T010000
END:STANDARD
END:VTIMEZONE
BEGIN:VEVENT
DTSTART;VALUE=DATE:20211211
DTEND;VALUE=DATE:20211213
DTSTAMP:20260422T165504
CREATED:20210420T165829Z
LAST-MODIFIED:20210420T165829Z
UID:1478-1639180800-1639353599@aacz.ch
SUMMARY:Weihnachtskneip
DESCRIPTION:Alljährlich Anfang Dezember finden sich junge und junggebliebene Huttli auf der Fondeihütte ein für Speis & Trank\, Ratsch & Tratsch\, um über vergangene und geplante Touren zu sprechen und natürlich um den ersten frischen Schnee zu geniessen. \nAchtung: limitierte Plätze\, rechtzeitig anmelden!
URL:https://aacz.ch/event/weihnachtskneip/
LOCATION:Fondeihütte\, Langwies\, 7057\, Switzerland
CATEGORIES:Official Events
END:VEVENT
BEGIN:VEVENT
DTSTART;TZID=Europe/Helsinki:20211217T190000
DTEND;TZID=Europe/Helsinki:20211217T220000
DTSTAMP:20260422T165504
CREATED:20211124T093604Z
LAST-MODIFIED:20211124T093604Z
UID:2121-1639767600-1639778400@aacz.ch
SUMMARY:Beer Evening
DESCRIPTION:
URL:https://aacz.ch/event/beer-evening/
END:VEVENT
END:VCALENDAR