BEGIN:VCALENDAR
VERSION:2.0
PRODID:-//Akademischer Alpenclub Zürich - ECPv6.15.20//NONSGML v1.0//EN
CALSCALE:GREGORIAN
METHOD:PUBLISH
X-WR-CALNAME:Akademischer Alpenclub Zürich
X-ORIGINAL-URL:https://aacz.ch
X-WR-CALDESC:Events for Akademischer Alpenclub Zürich
REFRESH-INTERVAL;VALUE=DURATION:PT1H
X-Robots-Tag:noindex
X-PUBLISHED-TTL:PT1H
BEGIN:VTIMEZONE
TZID:Europe/Helsinki
BEGIN:DAYLIGHT
TZOFFSETFROM:+0200
TZOFFSETTO:+0300
TZNAME:EEST
DTSTART:20210328T010000
END:DAYLIGHT
BEGIN:STANDARD
TZOFFSETFROM:+0300
TZOFFSETTO:+0200
TZNAME:EET
DTSTART:20211031T010000
END:STANDARD
BEGIN:DAYLIGHT
TZOFFSETFROM:+0200
TZOFFSETTO:+0300
TZNAME:EEST
DTSTART:20220327T010000
END:DAYLIGHT
BEGIN:STANDARD
TZOFFSETFROM:+0300
TZOFFSETTO:+0200
TZNAME:EET
DTSTART:20221030T010000
END:STANDARD
BEGIN:DAYLIGHT
TZOFFSETFROM:+0200
TZOFFSETTO:+0300
TZNAME:EEST
DTSTART:20230326T010000
END:DAYLIGHT
BEGIN:STANDARD
TZOFFSETFROM:+0300
TZOFFSETTO:+0200
TZNAME:EET
DTSTART:20231029T010000
END:STANDARD
END:VTIMEZONE
BEGIN:VEVENT
DTSTART;TZID=Europe/Helsinki:20220211T180000
DTEND;TZID=Europe/Helsinki:20220213T180000
DTSTAMP:20260422T130558
CREATED:20220118T124957Z
LAST-MODIFIED:20220118T124957Z
UID:2257-1644602400-1644775200@aacz.ch
SUMMARY:Ice Climbing Workshop
DESCRIPTION:
URL:https://aacz.ch/event/ice-climbing-workshop/
LOCATION:Hotel Bernina\, Samedan\, Plazzet 20\, Samedan\, 7503\, Switzerland
END:VEVENT
END:VCALENDAR