BEGIN:VCALENDAR
VERSION:2.0
PRODID:-//Akademischer Alpenclub Zürich - ECPv6.15.20//NONSGML v1.0//EN
CALSCALE:GREGORIAN
METHOD:PUBLISH
X-ORIGINAL-URL:https://aacz.ch
X-WR-CALDESC:Events for Akademischer Alpenclub Zürich
REFRESH-INTERVAL;VALUE=DURATION:PT1H
X-Robots-Tag:noindex
X-PUBLISHED-TTL:PT1H
BEGIN:VTIMEZONE
TZID:Europe/Helsinki
BEGIN:DAYLIGHT
TZOFFSETFROM:+0200
TZOFFSETTO:+0300
TZNAME:EEST
DTSTART:20210328T010000
END:DAYLIGHT
BEGIN:STANDARD
TZOFFSETFROM:+0300
TZOFFSETTO:+0200
TZNAME:EET
DTSTART:20211031T010000
END:STANDARD
BEGIN:DAYLIGHT
TZOFFSETFROM:+0200
TZOFFSETTO:+0300
TZNAME:EEST
DTSTART:20220327T010000
END:DAYLIGHT
BEGIN:STANDARD
TZOFFSETFROM:+0300
TZOFFSETTO:+0200
TZNAME:EET
DTSTART:20221030T010000
END:STANDARD
BEGIN:DAYLIGHT
TZOFFSETFROM:+0200
TZOFFSETTO:+0300
TZNAME:EEST
DTSTART:20230326T010000
END:DAYLIGHT
BEGIN:STANDARD
TZOFFSETFROM:+0300
TZOFFSETTO:+0200
TZNAME:EET
DTSTART:20231029T010000
END:STANDARD
END:VTIMEZONE
BEGIN:VEVENT
DTSTART;TZID=Europe/Helsinki:20220311T190000
DTEND;TZID=Europe/Helsinki:20220311T220000
DTSTAMP:20260422T111233
CREATED:20220301T183534Z
LAST-MODIFIED:20220301T183534Z
UID:2366-1647025200-1647036000@aacz.ch
SUMMARY:Beer Evening
DESCRIPTION:Location TBD
URL:https://aacz.ch/event/beer-evening-2/
END:VEVENT
BEGIN:VEVENT
DTSTART;TZID=Europe/Helsinki:20220318T080000
DTEND;TZID=Europe/Helsinki:20220320T170000
DTSTAMP:20260422T111233
CREATED:20220118T125301Z
LAST-MODIFIED:20220118T125301Z
UID:2261-1647590400-1647795600@aacz.ch
SUMMARY:Greina Traverse Ski Tour
DESCRIPTION:See email from Max Poletto for interest survey.
URL:https://aacz.ch/event/greina-traverse-ski-tour/
LOCATION:Capanna Scaletta\, Val Camadra\, Ghirone\, 6720\, Switzerland
END:VEVENT
END:VCALENDAR