BEGIN:VCALENDAR
VERSION:2.0
PRODID:-//Akademischer Alpenclub Zürich - ECPv6.15.20//NONSGML v1.0//EN
CALSCALE:GREGORIAN
METHOD:PUBLISH
X-ORIGINAL-URL:https://aacz.ch
X-WR-CALDESC:Events for Akademischer Alpenclub Zürich
REFRESH-INTERVAL;VALUE=DURATION:PT1H
X-Robots-Tag:noindex
X-PUBLISHED-TTL:PT1H
BEGIN:VTIMEZONE
TZID:Europe/Helsinki
BEGIN:DAYLIGHT
TZOFFSETFROM:+0200
TZOFFSETTO:+0300
TZNAME:EEST
DTSTART:20210328T010000
END:DAYLIGHT
BEGIN:STANDARD
TZOFFSETFROM:+0300
TZOFFSETTO:+0200
TZNAME:EET
DTSTART:20211031T010000
END:STANDARD
BEGIN:DAYLIGHT
TZOFFSETFROM:+0200
TZOFFSETTO:+0300
TZNAME:EEST
DTSTART:20220327T010000
END:DAYLIGHT
BEGIN:STANDARD
TZOFFSETFROM:+0300
TZOFFSETTO:+0200
TZNAME:EET
DTSTART:20221030T010000
END:STANDARD
BEGIN:DAYLIGHT
TZOFFSETFROM:+0200
TZOFFSETTO:+0300
TZNAME:EEST
DTSTART:20230326T010000
END:DAYLIGHT
BEGIN:STANDARD
TZOFFSETFROM:+0300
TZOFFSETTO:+0200
TZNAME:EET
DTSTART:20231029T010000
END:STANDARD
END:VTIMEZONE
BEGIN:VEVENT
DTSTART;TZID=Europe/Helsinki:20220401T160000
DTEND;TZID=Europe/Helsinki:20220403T170000
DTSTAMP:20260422T091922
CREATED:20220118T125601Z
LAST-MODIFIED:20220118T125601Z
UID:2264-1648828800-1649005200@aacz.ch
SUMMARY:Saas Fee Skitouring Weekend
DESCRIPTION:See email from Christoph for directions on how to sign up.
URL:https://aacz.ch/event/saas-fee-skitouring-weekend/
LOCATION:Saas Fee\, Panoramastrasse 1\, Saas-Fee\, 3906\, Switzerland
END:VEVENT
BEGIN:VEVENT
DTSTART;TZID=Europe/Helsinki:20220412T190000
DTEND;TZID=Europe/Helsinki:20220412T220000
DTSTAMP:20260422T091922
CREATED:20220301T183452Z
LAST-MODIFIED:20220301T183452Z
UID:2364-1649790000-1649800800@aacz.ch
SUMMARY:Semestersitzung
DESCRIPTION:Featuring a presentation by Martin Hood on the AACZ 1912 Greenland expedition.
URL:https://aacz.ch/event/semestersitzung-6/
LOCATION:Linde Oberstrass\, Universitätstrasse 91\,\, Zürich\, 8006\, Switzerland
END:VEVENT
END:VCALENDAR