BEGIN:VCALENDAR
VERSION:2.0
PRODID:-//Akademischer Alpenclub Zürich - ECPv6.15.20//NONSGML v1.0//EN
CALSCALE:GREGORIAN
METHOD:PUBLISH
X-ORIGINAL-URL:https://aacz.ch
X-WR-CALDESC:Events for Akademischer Alpenclub Zürich
REFRESH-INTERVAL;VALUE=DURATION:PT1H
X-Robots-Tag:noindex
X-PUBLISHED-TTL:PT1H
BEGIN:VTIMEZONE
TZID:Europe/Helsinki
BEGIN:DAYLIGHT
TZOFFSETFROM:+0200
TZOFFSETTO:+0300
TZNAME:EEST
DTSTART:20210328T010000
END:DAYLIGHT
BEGIN:STANDARD
TZOFFSETFROM:+0300
TZOFFSETTO:+0200
TZNAME:EET
DTSTART:20211031T010000
END:STANDARD
BEGIN:DAYLIGHT
TZOFFSETFROM:+0200
TZOFFSETTO:+0300
TZNAME:EEST
DTSTART:20220327T010000
END:DAYLIGHT
BEGIN:STANDARD
TZOFFSETFROM:+0300
TZOFFSETTO:+0200
TZNAME:EET
DTSTART:20221030T010000
END:STANDARD
BEGIN:DAYLIGHT
TZOFFSETFROM:+0200
TZOFFSETTO:+0300
TZNAME:EEST
DTSTART:20230326T010000
END:DAYLIGHT
BEGIN:STANDARD
TZOFFSETFROM:+0300
TZOFFSETTO:+0200
TZNAME:EET
DTSTART:20231029T010000
END:STANDARD
END:VTIMEZONE
BEGIN:VEVENT
DTSTART;TZID=Europe/Helsinki:20220506T180000
DTEND;TZID=Europe/Helsinki:20220506T230000
DTSTAMP:20260422T073554
CREATED:20220304T210449Z
LAST-MODIFIED:20220304T210449Z
UID:2369-1651860000-1651878000@aacz.ch
SUMMARY:General Versammlung (GV) 2022
DESCRIPTION:Wir treffen uns zur alljährlichen GV im Linde Oberstrass. Neben dem offiziellen Teil und der Aufnahmen von Neumitgliedern wird es einen Vortrag von Jan Rauch geben. Wir freuen uns auf ein zahlreiches Erscheinen aller unserer Mitglieder.
URL:https://aacz.ch/event/general-versammlung-gv-2022/
LOCATION:Linde Oberstrass\, Universitätstrasse 91\,\, Zürich\, 8006\, Switzerland
CATEGORIES:Official Events
END:VEVENT
BEGIN:VEVENT
DTSTART;VALUE=DATE:20220508
DTEND;VALUE=DATE:20220509
DTSTAMP:20260422T073554
CREATED:20220426T104349Z
LAST-MODIFIED:20220426T104349Z
UID:2565-1651968000-1652054399@aacz.ch
SUMMARY:Sportklettertag
DESCRIPTION:Outdoor Sports Climbing day near Zürich. \nLocation: tbd \nPlease sign in until Apr. 29th \nContact: Tobias Eggersdorfer
URL:https://aacz.ch/event/sportklettertag/
CATEGORIES:Alpine Climbing / Climbing
END:VEVENT
BEGIN:VEVENT
DTSTART;VALUE=DATE:20220514
DTEND;VALUE=DATE:20220516
DTSTAMP:20260422T073554
CREATED:20220510T171651Z
LAST-MODIFIED:20220510T172636Z
UID:2588-1652486400-1652659199@aacz.ch
SUMMARY:Ski Camping Weekend
DESCRIPTION:
URL:https://aacz.ch/event/ski-camping-weekend/
LOCATION:Switzerland
END:VEVENT
END:VCALENDAR