BEGIN:VCALENDAR
VERSION:2.0
PRODID:-//Akademischer Alpenclub Zürich - ECPv6.15.20//NONSGML v1.0//EN
CALSCALE:GREGORIAN
METHOD:PUBLISH
X-ORIGINAL-URL:https://aacz.ch
X-WR-CALDESC:Events for Akademischer Alpenclub Zürich
REFRESH-INTERVAL;VALUE=DURATION:PT1H
X-Robots-Tag:noindex
X-PUBLISHED-TTL:PT1H
BEGIN:VTIMEZONE
TZID:Europe/Helsinki
BEGIN:DAYLIGHT
TZOFFSETFROM:+0200
TZOFFSETTO:+0300
TZNAME:EEST
DTSTART:20210328T010000
END:DAYLIGHT
BEGIN:STANDARD
TZOFFSETFROM:+0300
TZOFFSETTO:+0200
TZNAME:EET
DTSTART:20211031T010000
END:STANDARD
BEGIN:DAYLIGHT
TZOFFSETFROM:+0200
TZOFFSETTO:+0300
TZNAME:EEST
DTSTART:20220327T010000
END:DAYLIGHT
BEGIN:STANDARD
TZOFFSETFROM:+0300
TZOFFSETTO:+0200
TZNAME:EET
DTSTART:20221030T010000
END:STANDARD
BEGIN:DAYLIGHT
TZOFFSETFROM:+0200
TZOFFSETTO:+0300
TZNAME:EEST
DTSTART:20230326T010000
END:DAYLIGHT
BEGIN:STANDARD
TZOFFSETFROM:+0300
TZOFFSETTO:+0200
TZNAME:EET
DTSTART:20231029T010000
END:STANDARD
END:VTIMEZONE
BEGIN:VEVENT
DTSTART;VALUE=DATE:20220702
DTEND;VALUE=DATE:20220703
DTSTAMP:20260422T040920
CREATED:20220510T172240Z
LAST-MODIFIED:20220510T172716Z
UID:2602-1656720000-1656806399@aacz.ch
SUMMARY:Medical skills workshop
DESCRIPTION:
URL:https://aacz.ch/event/medical-skills-workshop/
LOCATION:ETH Hönggerberg\, Zürich
END:VEVENT
BEGIN:VEVENT
DTSTART;VALUE=DATE:20220703
DTEND;VALUE=DATE:20220704
DTSTAMP:20260422T040920
CREATED:20220510T172356Z
LAST-MODIFIED:20220510T172727Z
UID:2605-1656806400-1656892799@aacz.ch
SUMMARY:Family climbing day
DESCRIPTION:
URL:https://aacz.ch/event/family-climbing-day/
LOCATION:Switzerland
END:VEVENT
BEGIN:VEVENT
DTSTART;VALUE=DATE:20220722
DTEND;VALUE=DATE:20220725
DTSTAMP:20260422T040920
CREATED:20220510T172454Z
LAST-MODIFIED:20220510T172738Z
UID:2608-1658448000-1658707199@aacz.ch
SUMMARY:Trad climbing workshop
DESCRIPTION:
URL:https://aacz.ch/event/trad-climbing-workshop/
LOCATION:Switzerland
END:VEVENT
END:VCALENDAR