BEGIN:VCALENDAR
VERSION:2.0
PRODID:-//Akademischer Alpenclub Zürich - ECPv6.15.20//NONSGML v1.0//EN
CALSCALE:GREGORIAN
METHOD:PUBLISH
X-ORIGINAL-URL:https://aacz.ch
X-WR-CALDESC:Events for Akademischer Alpenclub Zürich
REFRESH-INTERVAL;VALUE=DURATION:PT1H
X-Robots-Tag:noindex
X-PUBLISHED-TTL:PT1H
BEGIN:VTIMEZONE
TZID:Europe/Helsinki
BEGIN:DAYLIGHT
TZOFFSETFROM:+0200
TZOFFSETTO:+0300
TZNAME:EEST
DTSTART:20210328T010000
END:DAYLIGHT
BEGIN:STANDARD
TZOFFSETFROM:+0300
TZOFFSETTO:+0200
TZNAME:EET
DTSTART:20211031T010000
END:STANDARD
BEGIN:DAYLIGHT
TZOFFSETFROM:+0200
TZOFFSETTO:+0300
TZNAME:EEST
DTSTART:20220327T010000
END:DAYLIGHT
BEGIN:STANDARD
TZOFFSETFROM:+0300
TZOFFSETTO:+0200
TZNAME:EET
DTSTART:20221030T010000
END:STANDARD
BEGIN:DAYLIGHT
TZOFFSETFROM:+0200
TZOFFSETTO:+0300
TZNAME:EEST
DTSTART:20230326T010000
END:DAYLIGHT
BEGIN:STANDARD
TZOFFSETFROM:+0300
TZOFFSETTO:+0200
TZNAME:EET
DTSTART:20231029T010000
END:STANDARD
END:VTIMEZONE
BEGIN:VEVENT
DTSTART;VALUE=DATE:20220806
DTEND;VALUE=DATE:20220814
DTSTAMP:20260422T021116
CREATED:20220426T104957Z
LAST-MODIFIED:20220426T104957Z
UID:2572-1659744000-1660435199@aacz.ch
SUMMARY:Vorankündigung: Kletterwoche in Slowenien
DESCRIPTION:
URL:https://aacz.ch/event/vorankuendigung-kletterwoche-in-slowenien/
LOCATION:Slowenien\, Slovenia
CATEGORIES:Alpine Climbing / Climbing,Clubreise
END:VEVENT
BEGIN:VEVENT
DTSTART;VALUE=DATE:20220806
DTEND;VALUE=DATE:20220808
DTSTAMP:20260422T021116
CREATED:20220510T172558Z
LAST-MODIFIED:20220510T172619Z
UID:2610-1659744000-1659916799@aacz.ch
SUMMARY:Alpine multipitch
DESCRIPTION:
URL:https://aacz.ch/event/alpine-multipitch/
LOCATION:Switzerland
END:VEVENT
BEGIN:VEVENT
DTSTART;VALUE=DATE:20220812
DTEND;VALUE=DATE:20220815
DTSTAMP:20260422T021116
CREATED:20220804T111438Z
LAST-MODIFIED:20220804T111550Z
UID:3037-1660262400-1660521599@aacz.ch
SUMMARY:Alpine Tours Cabane du Mountet
DESCRIPTION:
URL:https://aacz.ch/event/alpine-tours-cabane-du-mountet/
LOCATION:Cabane du Mountet
END:VEVENT
BEGIN:VEVENT
DTSTART;VALUE=DATE:20220827
DTEND;VALUE=DATE:20220828
DTSTAMP:20260422T021116
CREATED:20220510T172839Z
LAST-MODIFIED:20220510T172839Z
UID:2613-1661558400-1661644799@aacz.ch
SUMMARY:Sport climbing or multipitch
DESCRIPTION:
URL:https://aacz.ch/event/sport-climbing-or-multipitch/
LOCATION:Switzerland
END:VEVENT
END:VCALENDAR