BEGIN:VCALENDAR
VERSION:2.0
PRODID:-//Akademischer Alpenclub Zürich - ECPv6.15.20//NONSGML v1.0//EN
CALSCALE:GREGORIAN
METHOD:PUBLISH
X-WR-CALNAME:Akademischer Alpenclub Zürich
X-ORIGINAL-URL:https://aacz.ch
X-WR-CALDESC:Events for Akademischer Alpenclub Zürich
REFRESH-INTERVAL;VALUE=DURATION:PT1H
X-Robots-Tag:noindex
X-PUBLISHED-TTL:PT1H
BEGIN:VTIMEZONE
TZID:Europe/Helsinki
BEGIN:DAYLIGHT
TZOFFSETFROM:+0200
TZOFFSETTO:+0300
TZNAME:EEST
DTSTART:20210328T010000
END:DAYLIGHT
BEGIN:STANDARD
TZOFFSETFROM:+0300
TZOFFSETTO:+0200
TZNAME:EET
DTSTART:20211031T010000
END:STANDARD
BEGIN:DAYLIGHT
TZOFFSETFROM:+0200
TZOFFSETTO:+0300
TZNAME:EEST
DTSTART:20220327T010000
END:DAYLIGHT
BEGIN:STANDARD
TZOFFSETFROM:+0300
TZOFFSETTO:+0200
TZNAME:EET
DTSTART:20221030T010000
END:STANDARD
BEGIN:DAYLIGHT
TZOFFSETFROM:+0200
TZOFFSETTO:+0300
TZNAME:EEST
DTSTART:20230326T010000
END:DAYLIGHT
BEGIN:STANDARD
TZOFFSETFROM:+0300
TZOFFSETTO:+0200
TZNAME:EET
DTSTART:20231029T010000
END:STANDARD
END:VTIMEZONE
BEGIN:VEVENT
DTSTART;TZID=Europe/Helsinki:20221121T190000
DTEND;TZID=Europe/Helsinki:20221121T210000
DTSTAMP:20260421T222423
CREATED:20221106T125227Z
LAST-MODIFIED:20221106T125227Z
UID:3621-1669057200-1669064400@aacz.ch
SUMMARY:Semestersitzung
DESCRIPTION:
URL:https://aacz.ch/event/semestersitzung-8/
LOCATION:Linde Oberstrass\, Universitätstrasse 91\,\, Zürich\, 8006\, Switzerland
END:VEVENT
END:VCALENDAR