BEGIN:VCALENDAR
VERSION:2.0
PRODID:-//Akademischer Alpenclub Zürich - ECPv6.15.20//NONSGML v1.0//EN
CALSCALE:GREGORIAN
METHOD:PUBLISH
X-WR-CALNAME:Akademischer Alpenclub Zürich
X-ORIGINAL-URL:https://aacz.ch
X-WR-CALDESC:Events for Akademischer Alpenclub Zürich
REFRESH-INTERVAL;VALUE=DURATION:PT1H
X-Robots-Tag:noindex
X-PUBLISHED-TTL:PT1H
BEGIN:VTIMEZONE
TZID:Europe/Helsinki
BEGIN:DAYLIGHT
TZOFFSETFROM:+0200
TZOFFSETTO:+0300
TZNAME:EEST
DTSTART:20210328T010000
END:DAYLIGHT
BEGIN:STANDARD
TZOFFSETFROM:+0300
TZOFFSETTO:+0200
TZNAME:EET
DTSTART:20211031T010000
END:STANDARD
BEGIN:DAYLIGHT
TZOFFSETFROM:+0200
TZOFFSETTO:+0300
TZNAME:EEST
DTSTART:20220327T010000
END:DAYLIGHT
BEGIN:STANDARD
TZOFFSETFROM:+0300
TZOFFSETTO:+0200
TZNAME:EET
DTSTART:20221030T010000
END:STANDARD
BEGIN:DAYLIGHT
TZOFFSETFROM:+0200
TZOFFSETTO:+0300
TZNAME:EEST
DTSTART:20230326T010000
END:DAYLIGHT
BEGIN:STANDARD
TZOFFSETFROM:+0300
TZOFFSETTO:+0200
TZNAME:EET
DTSTART:20231029T010000
END:STANDARD
END:VTIMEZONE
BEGIN:VEVENT
DTSTART;VALUE=DATE:20221203
DTEND;VALUE=DATE:20221205
DTSTAMP:20260421T164122
CREATED:20220916T094803Z
LAST-MODIFIED:20220916T094803Z
UID:3154-1670025600-1670198399@aacz.ch
SUMMARY:Weihnachtskneip 2023
DESCRIPTION:As every year\, we are going to celebrate the arrival of Winter and the Christmastime during a weekend on our beautiful cosy Fondei hut. \nDue to space limitations\, this event is mainly reserved for memebers\, but candidates and partners can join as well… let’s see. Thus\, register timely! \nMore details to come soon…
URL:https://aacz.ch/event/weihnachtskneip-2023/
LOCATION:Fondeihütte\, Langwies\, 7057\, Switzerland
END:VEVENT
BEGIN:VEVENT
DTSTART;VALUE=DATE:20221211
DTEND;VALUE=DATE:20221212
DTSTAMP:20260421T164122
CREATED:20221026T211459Z
LAST-MODIFIED:20221122T185157Z
UID:3579-1670716800-1670803199@aacz.ch
SUMMARY:LVS training - Skills transfer workshop
DESCRIPTION:1 Day LVS Training\, on Sunday (will only change if weather conditions Sat/Sun require a change) \nWe will chose a location depending on conditions and leave around 07:45-08:15 from Zürich HB. Only if conditions are really poor / don’t exist\, we will do the training in Zürich (to be environmental friendly). \nIf possible\, we try to do a short skitour. However\, the focus is on the LVS Training\, thus\, the tour will be rather short like Gulmen or Laucherenstöckli. \nPlease contact Hans Wäsle or Matthias Muhar for details.
URL:https://aacz.ch/event/lvs-training-skills-transfer-workshop/
END:VEVENT
BEGIN:VEVENT
DTSTART;VALUE=DATE:20221217
DTEND;VALUE=DATE:20221218
DTSTAMP:20260421T164122
CREATED:20221026T211632Z
LAST-MODIFIED:20221026T211632Z
UID:3581-1671235200-1671321599@aacz.ch
SUMMARY:Ski Touring Tagestour / Daytrip
DESCRIPTION:Either Saturday or Sunday.
URL:https://aacz.ch/event/ski-touring-tagestour-daytrip/
END:VEVENT
END:VCALENDAR