BEGIN:VCALENDAR
VERSION:2.0
PRODID:-//Akademischer Alpenclub Zürich - ECPv6.15.20//NONSGML v1.0//EN
CALSCALE:GREGORIAN
METHOD:PUBLISH
X-WR-CALNAME:Akademischer Alpenclub Zürich
X-ORIGINAL-URL:https://aacz.ch
X-WR-CALDESC:Events for Akademischer Alpenclub Zürich
REFRESH-INTERVAL;VALUE=DURATION:PT1H
X-Robots-Tag:noindex
X-PUBLISHED-TTL:PT1H
BEGIN:VTIMEZONE
TZID:Europe/Helsinki
BEGIN:DAYLIGHT
TZOFFSETFROM:+0200
TZOFFSETTO:+0300
TZNAME:EEST
DTSTART:20220327T010000
END:DAYLIGHT
BEGIN:STANDARD
TZOFFSETFROM:+0300
TZOFFSETTO:+0200
TZNAME:EET
DTSTART:20221030T010000
END:STANDARD
BEGIN:DAYLIGHT
TZOFFSETFROM:+0200
TZOFFSETTO:+0300
TZNAME:EEST
DTSTART:20230326T010000
END:DAYLIGHT
BEGIN:STANDARD
TZOFFSETFROM:+0300
TZOFFSETTO:+0200
TZNAME:EET
DTSTART:20231029T010000
END:STANDARD
BEGIN:DAYLIGHT
TZOFFSETFROM:+0200
TZOFFSETTO:+0300
TZNAME:EEST
DTSTART:20240331T010000
END:DAYLIGHT
BEGIN:STANDARD
TZOFFSETFROM:+0300
TZOFFSETTO:+0200
TZNAME:EET
DTSTART:20241027T010000
END:STANDARD
END:VTIMEZONE
BEGIN:VEVENT
DTSTART;VALUE=DATE:20230302
DTEND;VALUE=DATE:20230306
DTSTAMP:20260421T091349
CREATED:20221026T212326Z
LAST-MODIFIED:20230217T085803Z
UID:3598-1677715200-1678060799@aacz.ch
SUMMARY:Ski Camping Weekend
DESCRIPTION:Ski touring and alpine camping trip in Schlappintal\, Grisons. Please contact Michael Kölbl for further information
URL:https://aacz.ch/event/ski-camping-weekend-2/
END:VEVENT
BEGIN:VEVENT
DTSTART;VALUE=DATE:20230311
DTEND;VALUE=DATE:20230320
DTSTAMP:20260421T091349
CREATED:20221026T212416Z
LAST-MODIFIED:20221026T212416Z
UID:3600-1678492800-1679270399@aacz.ch
SUMMARY:Bulgaria Ski Traverse
DESCRIPTION:
URL:https://aacz.ch/event/bulgaria-ski-traverse/
END:VEVENT
BEGIN:VEVENT
DTSTART;VALUE=DATE:20230324
DTEND;VALUE=DATE:20230327
DTSTAMP:20260421T091349
CREATED:20221026T212551Z
LAST-MODIFIED:20230107T182323Z
UID:3602-1679616000-1679875199@aacz.ch
SUMMARY:AACZ Skitourenwochenende - Schwarenbach
DESCRIPTION:Wir haben 30 Betten im Berghotel Schwarenbach auf 2060m für insgesamt 30 Mitglieder vom 24. und 25. März vorreserviert. Die Betten werden nach dem Prinzip “Wer zuerst kommt\, kann auswählen” vergeben \nhttps://schwarenbach.ch/ \nKontakt für Reservation: diogo.bernardo@gmail.com \n  \n 
URL:https://aacz.ch/event/aacz-skitourenwochenende/
LOCATION:Schwarenbch\, Berghotel Schwarenbach\, Kandersteg\, Switzerland
END:VEVENT
END:VCALENDAR