BEGIN:VCALENDAR
VERSION:2.0
PRODID:-//Akademischer Alpenclub Zürich - ECPv6.15.20//NONSGML v1.0//EN
CALSCALE:GREGORIAN
METHOD:PUBLISH
X-WR-CALNAME:Akademischer Alpenclub Zürich
X-ORIGINAL-URL:https://aacz.ch
X-WR-CALDESC:Events for Akademischer Alpenclub Zürich
REFRESH-INTERVAL;VALUE=DURATION:PT1H
X-Robots-Tag:noindex
X-PUBLISHED-TTL:PT1H
BEGIN:VTIMEZONE
TZID:Europe/Helsinki
BEGIN:DAYLIGHT
TZOFFSETFROM:+0200
TZOFFSETTO:+0300
TZNAME:EEST
DTSTART:20220327T010000
END:DAYLIGHT
BEGIN:STANDARD
TZOFFSETFROM:+0300
TZOFFSETTO:+0200
TZNAME:EET
DTSTART:20221030T010000
END:STANDARD
BEGIN:DAYLIGHT
TZOFFSETFROM:+0200
TZOFFSETTO:+0300
TZNAME:EEST
DTSTART:20230326T010000
END:DAYLIGHT
BEGIN:STANDARD
TZOFFSETFROM:+0300
TZOFFSETTO:+0200
TZNAME:EET
DTSTART:20231029T010000
END:STANDARD
BEGIN:DAYLIGHT
TZOFFSETFROM:+0200
TZOFFSETTO:+0300
TZNAME:EEST
DTSTART:20240331T010000
END:DAYLIGHT
BEGIN:STANDARD
TZOFFSETFROM:+0300
TZOFFSETTO:+0200
TZNAME:EET
DTSTART:20241027T010000
END:STANDARD
END:VTIMEZONE
BEGIN:VEVENT
DTSTART;VALUE=DATE:20230930
DTEND;VALUE=DATE:20231002
DTSTAMP:20260420T172615
CREATED:20230419T205209Z
LAST-MODIFIED:20230419T205209Z
UID:3996-1696032000-1696204799@aacz.ch
SUMMARY:Stiftungsfest Windgällenhütte
DESCRIPTION:Unser Stiftungsfest 2023 wird dieses Jahr auf der Windgällenhütte stattfinden. Bitte meldet euch rechtzeitig an
URL:https://aacz.ch/event/stiftungsfest-windgallenhutte/
LOCATION:Windgällenhütte\, Golzeralpen\, Silenen\, 6475\, Switzerland
CATEGORIES:Official Events
END:VEVENT
BEGIN:VEVENT
DTSTART;VALUE=DATE:20231007
DTEND;VALUE=DATE:20231009
DTSTAMP:20260420T172615
CREATED:20230419T205323Z
LAST-MODIFIED:20230419T205323Z
UID:3998-1696636800-1696809599@aacz.ch
SUMMARY:Mountain Bike Traverse
DESCRIPTION:
URL:https://aacz.ch/event/mountain-bike-traverse/
CATEGORIES:Biking
END:VEVENT
BEGIN:VEVENT
DTSTART;VALUE=DATE:20231028
DTEND;VALUE=DATE:20231030
DTSTAMP:20260420T172615
CREATED:20231004T195451Z
LAST-MODIFIED:20231004T195451Z
UID:4157-1698451200-1698623999@aacz.ch
SUMMARY:Crack Climbing Workshop
DESCRIPTION:Anita and Chris are organizing a crack-climbing workshop in Cadarese
URL:https://aacz.ch/event/crack-climbing-workshop/
CATEGORIES:Alpine Climbing / Climbing
END:VEVENT
BEGIN:VEVENT
DTSTART;VALUE=DATE:20231028
DTEND;VALUE=DATE:20231030
DTSTAMP:20260420T172615
CREATED:20231004T195611Z
LAST-MODIFIED:20231004T195611Z
UID:4160-1698451200-1698623999@aacz.ch
SUMMARY:Alpstein Climbing at Zwinglipasshütte
DESCRIPTION:Milo will coordinate a weekend at the Zwinglipasshütte in Alpstein
URL:https://aacz.ch/event/alpstein-climbing-at-zwinglipasshutte/
CATEGORIES:Alpine Climbing / Climbing,Hiking
END:VEVENT
END:VCALENDAR